Package: EnMCB Version: 1.23.0 Command: /home/biocbuild/bbs-3.23-bioc/R/bin/R CMD INSTALL EnMCB StartedAt: 2025-11-20 15:08:50 -0500 (Thu, 20 Nov 2025) EndedAt: 2025-11-20 15:09:05 -0500 (Thu, 20 Nov 2025) EllapsedTime: 15.3 seconds RetCode: 0 Status: OK