Package: EnMCB Version: 1.23.0 Command: /home/biocbuild/bbs-3.23-bioc/R/bin/R CMD build --keep-empty-dirs --no-resave-data EnMCB StartedAt: 2025-11-20 17:28:32 -0500 (Thu, 20 Nov 2025) EndedAt: 2025-11-20 17:29:13 -0500 (Thu, 20 Nov 2025) EllapsedTime: 41.0 seconds RetCode: 0 Status: OK PackageFile: EnMCB_1.23.0.tar.gz PackageFileSize: 4.929 MiB