Package: EnMCB Version: 1.21.0 Command: /Library/Frameworks/R.framework/Resources/bin/R CMD INSTALL EnMCB StartedAt: 2025-09-30 15:11:42 -0400 (Tue, 30 Sep 2025) EndedAt: 2025-09-30 15:12:16 -0400 (Tue, 30 Sep 2025) EllapsedTime: 33.3 seconds RetCode: 0 Status: OK