Package: EnMCB Version: 1.21.0 Command: /Library/Frameworks/R.framework/Resources/bin/R CMD build --keep-empty-dirs --no-resave-data EnMCB StartedAt: 2025-09-30 16:51:48 -0400 (Tue, 30 Sep 2025) EndedAt: 2025-09-30 16:52:42 -0400 (Tue, 30 Sep 2025) EllapsedTime: 53.6 seconds RetCode: 0 Status: OK PackageFile: EnMCB_1.21.0.tar.gz PackageFileSize: 4.929 MiB