Package: EnMCB Version: 1.21.0 Command: /Library/Frameworks/R.framework/Resources/bin/R CMD INSTALL EnMCB StartedAt: 2025-10-27 15:05:08 -0400 (Mon, 27 Oct 2025) EndedAt: 2025-10-27 15:05:15 -0400 (Mon, 27 Oct 2025) EllapsedTime: 6.5 seconds RetCode: 0 Status: OK