Package: EnMCB Version: 1.21.0 Command: rm -rf EnMCB.buildbin-libdir && mkdir EnMCB.buildbin-libdir && /Users/biocbuild/BBS/utils/build-universal.sh EnMCB_1.21.0.tar.gz /Library/Frameworks/R.framework/Resources/bin/R EnMCB.buildbin-libdir StartedAt: 2025-10-26 22:35:09 -0400 (Sun, 26 Oct 2025) EndedAt: 2025-10-26 22:35:15 -0400 (Sun, 26 Oct 2025) EllapsedTime: 6.1 seconds RetCode: 0 Status: OK PackageFile: EnMCB_1.21.0.tgz PackageFileSize: 5.083 MiB