Package: EnMCB Version: 1.21.0 Maintainer: Xin Yu MaintainerEmail: whirlsyu at gmail.com git_url: https://git.bioconductor.org/packages/EnMCB git_branch: devel git_last_commit: acd1e1a git_last_commit_date: 2025-04-15 11:53:15 -0400 (Tue, 15 Apr 2025)