Package: EmpiricalBrownsMethod Version: 1.37.0 Command: /home/biocbuild/R/R/bin/R CMD INSTALL EmpiricalBrownsMethod StartedAt: 2025-10-16 21:08:08 -0000 (Thu, 16 Oct 2025) EndedAt: 2025-10-16 21:08:27 -0000 (Thu, 16 Oct 2025) EllapsedTime: 18.1 seconds RetCode: 0 Status: OK