Package: EmpiricalBrownsMethod Version: 1.37.0 Command: /home/biocbuild/R/R/bin/R CMD build --keep-empty-dirs --no-resave-data EmpiricalBrownsMethod StartedAt: 2025-10-17 00:54:46 -0000 (Fri, 17 Oct 2025) EndedAt: 2025-10-17 00:54:50 -0000 (Fri, 17 Oct 2025) EllapsedTime: 4.0 seconds RetCode: 0 Status: OK PackageFile: EmpiricalBrownsMethod_1.37.0.tar.gz PackageFileSize: 39.17 KiB