Package: EmpiricalBrownsMethod Version: 1.37.0 Command: F:\biocbuild\bbs-3.22-bioc\R\bin\R.exe CMD INSTALL EmpiricalBrownsMethod StartedAt: 2025-08-14 15:16:34 -0400 (Thu, 14 Aug 2025) EndedAt: 2025-08-14 15:17:30 -0400 (Thu, 14 Aug 2025) EllapsedTime: 56.4 seconds RetCode: 0 Status: OK