Package: EmpiricalBrownsMethod Version: 1.37.0 Command: rm -rf EmpiricalBrownsMethod.buildbin-libdir && mkdir EmpiricalBrownsMethod.buildbin-libdir && F:\biocbuild\bbs-3.22-bioc\R\bin\R.exe CMD INSTALL --build --library=EmpiricalBrownsMethod.buildbin-libdir EmpiricalBrownsMethod_1.37.0.tar.gz StartedAt: 2025-08-15 10:12:51 -0400 (Fri, 15 Aug 2025) EndedAt: 2025-08-15 10:14:04 -0400 (Fri, 15 Aug 2025) EllapsedTime: 73.0 seconds RetCode: 0 Status: OK PackageFile: EmpiricalBrownsMethod_1.37.0.zip PackageFileSize: 57.91 KiB