Package: EmpiricalBrownsMethod Version: 1.37.0 Command: /home/biocbuild/bbs-3.22-bioc/R/bin/R CMD check --install=check:EmpiricalBrownsMethod.install-out.txt --library=/home/biocbuild/bbs-3.22-bioc/R/site-library --timings EmpiricalBrownsMethod_1.37.0.tar.gz StartedAt: 2025-10-05 23:37:34 -0400 (Sun, 05 Oct 2025) EndedAt: 2025-10-05 23:37:50 -0400 (Sun, 05 Oct 2025) EllapsedTime: 16.0 seconds RetCode: 0 Status: OK CheckDir: EmpiricalBrownsMethod.Rcheck Warnings: 0