Package: EmpiricalBrownsMethod Version: 1.39.0 Command: /home/biocbuild/bbs-3.23-bioc/R/bin/R CMD INSTALL EmpiricalBrownsMethod StartedAt: 2025-11-07 15:02:25 -0500 (Fri, 07 Nov 2025) EndedAt: 2025-11-07 15:02:34 -0500 (Fri, 07 Nov 2025) EllapsedTime: 9.7 seconds RetCode: 0 Status: OK