Package: EmpiricalBrownsMethod Version: 1.39.0 Command: /home/biocbuild/bbs-3.23-bioc/R/bin/R CMD check --install=check:EmpiricalBrownsMethod.install-out.txt --library=/home/biocbuild/bbs-3.23-bioc/R/site-library --timings EmpiricalBrownsMethod_1.39.0.tar.gz StartedAt: 2025-11-07 23:17:50 -0500 (Fri, 07 Nov 2025) EndedAt: 2025-11-07 23:18:07 -0500 (Fri, 07 Nov 2025) EllapsedTime: 17.0 seconds RetCode: 0 Status: OK CheckDir: EmpiricalBrownsMethod.Rcheck Warnings: 0