Package: EmpiricalBrownsMethod Version: 1.39.0 Command: /home/biocbuild/bbs-3.23-bioc/R/bin/R CMD build --keep-empty-dirs --no-resave-data EmpiricalBrownsMethod StartedAt: 2025-11-07 17:24:31 -0500 (Fri, 07 Nov 2025) EndedAt: 2025-11-07 17:24:34 -0500 (Fri, 07 Nov 2025) EllapsedTime: 3.0 seconds RetCode: 0 Status: OK PackageFile: EmpiricalBrownsMethod_1.39.0.tar.gz PackageFileSize: 38.68 KiB