Package: EWCE Version: 1.19.0 Command: /home/biocbuild/bbs-3.23-bioc/R/bin/R CMD INSTALL EWCE StartedAt: 2025-11-06 15:35:21 -0500 (Thu, 06 Nov 2025) EndedAt: 2025-11-06 15:35:58 -0500 (Thu, 06 Nov 2025) EllapsedTime: 37.4 seconds RetCode: 0 Status: OK