Package: EWCE Version: 1.19.0 Command: /home/biocbuild/bbs-3.23-bioc/R/bin/R CMD build --keep-empty-dirs --no-resave-data EWCE StartedAt: 2025-11-05 17:36:56 -0500 (Wed, 05 Nov 2025) EndedAt: 2025-11-05 17:41:03 -0500 (Wed, 05 Nov 2025) EllapsedTime: 246.4 seconds RetCode: 0 Status: OK PackageFile: EWCE_1.19.0.tar.gz PackageFileSize: 2.707 MiB