Package: EWCE Version: 1.17.1 Command: /Library/Frameworks/R.framework/Resources/bin/R CMD INSTALL EWCE StartedAt: 2025-10-22 15:32:29 -0400 (Wed, 22 Oct 2025) EndedAt: 2025-10-22 15:33:19 -0400 (Wed, 22 Oct 2025) EllapsedTime: 49.8 seconds RetCode: 0 Status: OK