Package: EWCE Version: 1.17.1 Command: /Library/Frameworks/R.framework/Resources/bin/R CMD build --keep-empty-dirs --no-resave-data EWCE StartedAt: 2025-10-21 17:11:09 -0400 (Tue, 21 Oct 2025) EndedAt: 2025-10-21 17:16:55 -0400 (Tue, 21 Oct 2025) EllapsedTime: 346.2 seconds RetCode: 0 Status: OK PackageFile: EWCE_1.17.1.tar.gz PackageFileSize: 2.538 MiB