Package: EWCE Version: 1.17.1 Command: rm -rf EWCE.buildbin-libdir && mkdir EWCE.buildbin-libdir && /Users/biocbuild/BBS/utils/build-universal.sh EWCE_1.17.1.tar.gz /Library/Frameworks/R.framework/Resources/bin/R EWCE.buildbin-libdir StartedAt: 2025-10-23 01:32:06 -0400 (Thu, 23 Oct 2025) EndedAt: 2025-10-23 01:33:00 -0400 (Thu, 23 Oct 2025) EllapsedTime: 54.5 seconds RetCode: 0 Status: OK PackageFile: EWCE_1.17.1.tgz PackageFileSize: 2.864 MiB