Package: EWCE Version: 1.17.0 Command: /Library/Frameworks/R.framework/Resources/bin/R CMD INSTALL EWCE StartedAt: 2025-10-12 15:12:08 -0400 (Sun, 12 Oct 2025) EndedAt: 2025-10-12 15:12:23 -0400 (Sun, 12 Oct 2025) EllapsedTime: 15.0 seconds RetCode: 0 Status: OK