Package: EWCE Version: 1.17.0 Command: /Library/Frameworks/R.framework/Resources/bin/R CMD build --keep-empty-dirs --no-resave-data EWCE StartedAt: 2025-10-12 16:20:39 -0400 (Sun, 12 Oct 2025) EndedAt: 2025-10-12 16:22:50 -0400 (Sun, 12 Oct 2025) EllapsedTime: 130.5 seconds RetCode: 0 Status: OK PackageFile: EWCE_1.17.0.tar.gz PackageFileSize: 2.539 MiB