Package: ERSSA Version: 1.29.0 Command: /home/biocbuild/bbs-3.23-bioc/R/bin/R CMD INSTALL ERSSA StartedAt: 2025-11-05 15:39:22 -0500 (Wed, 05 Nov 2025) EndedAt: 2025-11-05 15:39:48 -0500 (Wed, 05 Nov 2025) EllapsedTime: 25.5 seconds RetCode: 0 Status: OK