Package: ERSSA Version: 1.29.0 Command: /home/biocbuild/bbs-3.23-bioc/R/bin/R CMD build --keep-empty-dirs --no-resave-data ERSSA StartedAt: 2025-11-05 17:35:36 -0500 (Wed, 05 Nov 2025) EndedAt: 2025-11-05 17:36:31 -0500 (Wed, 05 Nov 2025) EllapsedTime: 55.0 seconds RetCode: 0 Status: OK PackageFile: ERSSA_1.29.0.tar.gz PackageFileSize: 2.679 MiB