Package: ERSSA Version: 1.27.0 Command: /Library/Frameworks/R.framework/Resources/bin/R CMD INSTALL ERSSA StartedAt: 2025-10-15 15:29:05 -0400 (Wed, 15 Oct 2025) EndedAt: 2025-10-15 15:29:42 -0400 (Wed, 15 Oct 2025) EllapsedTime: 37.4 seconds RetCode: 0 Status: OK