Package: ERSSA Version: 1.27.0 Command: /Library/Frameworks/R.framework/Resources/bin/R CMD build --keep-empty-dirs --no-resave-data ERSSA StartedAt: 2025-10-17 17:08:14 -0400 (Fri, 17 Oct 2025) EndedAt: 2025-10-17 17:09:21 -0400 (Fri, 17 Oct 2025) EllapsedTime: 66.3 seconds RetCode: 0 Status: OK PackageFile: ERSSA_1.27.0.tar.gz PackageFileSize: 2.679 MiB