Package: ENmix Version: 1.47.0 Command: /home/biocbuild/bbs-3.23-bioc/R/bin/R CMD INSTALL ENmix StartedAt: 2025-11-27 15:43:01 -0500 (Thu, 27 Nov 2025) EndedAt: 2025-11-27 15:43:52 -0500 (Thu, 27 Nov 2025) EllapsedTime: 51.0 seconds RetCode: 0 Status: OK