Package: ENmix Version: 1.47.0 Command: /home/biocbuild/bbs-3.23-bioc/R/bin/R CMD build --keep-empty-dirs --no-resave-data ENmix StartedAt: 2025-11-27 17:27:13 -0500 (Thu, 27 Nov 2025) EndedAt: 2025-11-27 17:28:07 -0500 (Thu, 27 Nov 2025) EllapsedTime: 54.0 seconds RetCode: 0 Status: OK PackageFile: ENmix_1.47.0.tar.gz PackageFileSize: 20.02 MiB