Package: ENmix Version: 1.47.0 Command: /Library/Frameworks/R.framework/Resources/bin/R CMD INSTALL ENmix StartedAt: 2025-11-26 15:22:57 -0500 (Wed, 26 Nov 2025) EndedAt: 2025-11-26 15:23:18 -0500 (Wed, 26 Nov 2025) EllapsedTime: 20.8 seconds RetCode: 0 Status: OK