Package: EMDomics Version: 2.41.0 Command: /home/biocbuild/bbs-3.23-bioc/R/bin/R CMD INSTALL EMDomics StartedAt: 2025-11-07 15:11:56 -0500 (Fri, 07 Nov 2025) EndedAt: 2025-11-07 15:12:01 -0500 (Fri, 07 Nov 2025) EllapsedTime: 5.0 seconds RetCode: 0 Status: OK