Package: EMDomics Version: 2.39.0 Command: /Library/Frameworks/R.framework/Resources/bin/R CMD INSTALL EMDomics StartedAt: 2025-10-22 15:14:15 -0400 (Wed, 22 Oct 2025) EndedAt: 2025-10-22 15:14:25 -0400 (Wed, 22 Oct 2025) EllapsedTime: 10.4 seconds RetCode: 0 Status: OK