Package: EMDomics Version: 2.39.0 Command: rm -rf EMDomics.buildbin-libdir && mkdir EMDomics.buildbin-libdir && /Users/biocbuild/BBS/utils/build-universal.sh EMDomics_2.39.0.tar.gz /Library/Frameworks/R.framework/Resources/bin/R EMDomics.buildbin-libdir StartedAt: 2025-10-23 01:31:19 -0400 (Thu, 23 Oct 2025) EndedAt: 2025-10-23 01:31:29 -0400 (Thu, 23 Oct 2025) EllapsedTime: 10.5 seconds RetCode: 0 Status: OK PackageFile: EMDomics_2.39.0.tgz PackageFileSize: 421.7 KiB