Package: EMDomics Version: 2.39.0 Command: /Library/Frameworks/R.framework/Resources/bin/R CMD build --keep-empty-dirs --no-resave-data EMDomics StartedAt: 2025-10-16 16:29:52 -0400 (Thu, 16 Oct 2025) EndedAt: 2025-10-16 16:29:59 -0400 (Thu, 16 Oct 2025) EllapsedTime: 7.1 seconds RetCode: 0 Status: OK PackageFile: EMDomics_2.39.0.tar.gz PackageFileSize: 327.3 KiB