Package: EMDomics Version: 2.39.0 Command: rm -rf EMDomics.buildbin-libdir && mkdir EMDomics.buildbin-libdir && /Users/biocbuild/BBS/utils/build-universal.sh EMDomics_2.39.0.tar.gz /Library/Frameworks/R.framework/Resources/bin/R EMDomics.buildbin-libdir StartedAt: 2025-10-16 23:00:11 -0400 (Thu, 16 Oct 2025) EndedAt: 2025-10-16 23:00:14 -0400 (Thu, 16 Oct 2025) EllapsedTime: 3.0 seconds RetCode: 0 Status: OK PackageFile: EMDomics_2.39.0.tgz PackageFileSize: 419.9 KiB