Package: ELViS Version: 1.3.0 Command: /home/biocbuild/bbs-3.23-bioc/R/bin/R CMD INSTALL ELViS StartedAt: 2025-11-20 15:41:04 -0500 (Thu, 20 Nov 2025) EndedAt: 2025-11-20 15:41:48 -0500 (Thu, 20 Nov 2025) EllapsedTime: 44.7 seconds RetCode: 0 Status: OK