Package: ELViS Version: 1.3.0 Command: /home/biocbuild/bbs-3.23-bioc/R/bin/R CMD build --keep-empty-dirs --no-resave-data ELViS StartedAt: 2025-11-20 17:28:06 -0500 (Thu, 20 Nov 2025) EndedAt: 2025-11-20 17:30:52 -0500 (Thu, 20 Nov 2025) EllapsedTime: 166.3 seconds RetCode: 0 Status: OK PackageFile: ELViS_1.3.0.tar.gz PackageFileSize: 2.39 MiB