Package: ELViS Version: 1.1.12 Command: /Library/Frameworks/R.framework/Resources/bin/R CMD INSTALL ELViS StartedAt: 2025-10-10 15:40:47 -0400 (Fri, 10 Oct 2025) EndedAt: 2025-10-10 15:41:47 -0400 (Fri, 10 Oct 2025) EllapsedTime: 59.6 seconds RetCode: 0 Status: OK