Package: ELViS Version: 1.1.12 Command: /Library/Frameworks/R.framework/Resources/bin/R CMD build --keep-empty-dirs --no-resave-data ELViS StartedAt: 2025-10-10 17:03:09 -0400 (Fri, 10 Oct 2025) EndedAt: 2025-10-10 17:06:25 -0400 (Fri, 10 Oct 2025) EllapsedTime: 196.6 seconds RetCode: 0 Status: OK PackageFile: ELViS_1.1.12.tar.gz PackageFileSize: 2.392 MiB