Package: ELViS Version: 1.1.12 Command: rm -rf ELViS.buildbin-libdir && mkdir ELViS.buildbin-libdir && /Users/biocbuild/BBS/utils/build-universal.sh ELViS_1.1.12.tar.gz /Library/Frameworks/R.framework/Resources/bin/R ELViS.buildbin-libdir StartedAt: 2025-10-11 02:28:12 -0400 (Sat, 11 Oct 2025) EndedAt: 2025-10-11 02:29:14 -0400 (Sat, 11 Oct 2025) EllapsedTime: 62.3 seconds RetCode: 0 Status: OK PackageFile: ELViS_1.1.12.tgz PackageFileSize: 2.603 MiB