Package: ELViS Version: 1.1.12 Command: /Library/Frameworks/R.framework/Resources/bin/R CMD INSTALL ELViS StartedAt: 2025-09-28 15:22:53 -0400 (Sun, 28 Sep 2025) EndedAt: 2025-09-28 15:23:11 -0400 (Sun, 28 Sep 2025) EllapsedTime: 18.2 seconds RetCode: 0 Status: OK