Package: ELViS Version: 1.1.12 Maintainer: Jin-Young Lee MaintainerEmail: jlee307 at uthsc.edu git_url: https://git.bioconductor.org/packages/ELViS git_branch: devel git_last_commit: a8349a4 git_last_commit_date: 2025-09-15 12:15:40 -0400 (Mon, 15 Sep 2025)