Package: ELMER Version: 2.35.0 Command: /home/biocbuild/bbs-3.23-bioc/R/bin/R CMD INSTALL ELMER StartedAt: 2025-11-18 16:41:36 -0500 (Tue, 18 Nov 2025) EndedAt: 2025-11-18 16:42:33 -0500 (Tue, 18 Nov 2025) EllapsedTime: 56.8 seconds RetCode: 0 Status: OK