Package: ELMER Version: 2.35.0 Command: /home/biocbuild/bbs-3.23-bioc/R/bin/R CMD build --keep-empty-dirs --no-resave-data ELMER StartedAt: 2025-11-19 17:30:42 -0500 (Wed, 19 Nov 2025) EndedAt: 2025-11-19 17:36:56 -0500 (Wed, 19 Nov 2025) EllapsedTime: 373.4 seconds RetCode: 1 Status: ERROR PackageFile: None PackageFileSize: NA