Package: EGSEA Version: 1.39.0 Command: /home/biocbuild/bbs-3.23-bioc/R/bin/R CMD INSTALL EGSEA StartedAt: 2025-11-20 15:57:48 -0500 (Thu, 20 Nov 2025) EndedAt: 2025-11-20 15:58:47 -0500 (Thu, 20 Nov 2025) EllapsedTime: 59.5 seconds RetCode: 0 Status: OK