Package: EGSEA Version: 1.39.0 Command: /home/biocbuild/bbs-3.23-bioc/R/bin/R CMD build --keep-empty-dirs --no-resave-data EGSEA StartedAt: 2025-11-20 17:27:37 -0500 (Thu, 20 Nov 2025) EndedAt: 2025-11-20 17:31:37 -0500 (Thu, 20 Nov 2025) EllapsedTime: 240.3 seconds RetCode: 0 Status: OK PackageFile: EGSEA_1.39.0.tar.gz PackageFileSize: 2.109 MiB