Package: EGSEA Version: 1.39.0 Command: /Library/Frameworks/R.framework/Resources/bin/R CMD INSTALL EGSEA StartedAt: 2025-11-21 15:52:59 -0500 (Fri, 21 Nov 2025) EndedAt: 2025-11-21 15:54:16 -0500 (Fri, 21 Nov 2025) EllapsedTime: 77.9 seconds RetCode: 0 Status: OK