Package: EGSEA Version: 1.39.0 Command: rm -rf EGSEA.buildbin-libdir && mkdir EGSEA.buildbin-libdir && /Users/biocbuild/BBS/utils/build-universal.sh EGSEA_1.39.0.tar.gz /Library/Frameworks/R.framework/Resources/bin/R EGSEA.buildbin-libdir StartedAt: 2025-11-22 01:32:53 -0500 (Sat, 22 Nov 2025) EndedAt: 2025-11-22 01:34:15 -0500 (Sat, 22 Nov 2025) EllapsedTime: 82.4 seconds RetCode: 0 Status: OK PackageFile: EGSEA_1.39.0.tgz PackageFileSize: 2.43 MiB