Package: EGAD Version: 1.39.0 Command: /home/biocbuild/bbs-3.23-bioc/R/bin/R CMD INSTALL EGAD StartedAt: 2025-11-20 15:33:26 -0500 (Thu, 20 Nov 2025) EndedAt: 2025-11-20 15:34:00 -0500 (Thu, 20 Nov 2025) EllapsedTime: 33.6 seconds RetCode: 0 Status: OK