Package: EGAD Version: 1.37.0 Command: /Library/Frameworks/R.framework/Resources/bin/R CMD INSTALL EGAD StartedAt: 2025-10-23 15:18:53 -0400 (Thu, 23 Oct 2025) EndedAt: 2025-10-23 15:19:08 -0400 (Thu, 23 Oct 2025) EllapsedTime: 14.6 seconds RetCode: 0 Status: OK