Package: EGAD Version: 1.37.0 Command: /Library/Frameworks/R.framework/Resources/bin/R CMD build --keep-empty-dirs --no-resave-data EGAD StartedAt: 2025-10-22 16:18:15 -0400 (Wed, 22 Oct 2025) EndedAt: 2025-10-22 16:18:17 -0400 (Wed, 22 Oct 2025) EllapsedTime: 2.0 seconds RetCode: 0 Status: OK PackageFile: EGAD_1.37.0.tar.gz PackageFileSize: 14.57 MiB